BEGIN:VCALENDAR
VERSION:2.0
PRODID:-//ChamberMaster//Event Calendar 2.0//EN
METHOD:PUBLISH
X-PUBLISHED-TTL:P3D
REFRESH-INTERVAL:P3D
CALSCALE:GREGORIAN
BEGIN:VEVENT
DTSTART;VALUE=DATE:20130816
DTEND;VALUE=DATE:20130817
TRANSP:TRANSPARENT
X-MICROSOFT-CDO-ALLDAYEVENT:TRUE
SUMMARY:Start Date for St. Vincent de Paul School
DESCRIPTION:Start date for St. Vincent de Paul School  -  full day.\n\n\n\nPre- Kindergarten Open House at 5:45 pm
X-ALT-DESC;FMTTYPE=text/html:Start date for St. Vincent de Paul School&nbsp\; -&nbsp\; full day.<br />\n<br />\nPre- Kindergarten Open House at 5:45 pm
LOCATION:152 Pinewood Avenue Seward
UID:e.865.2815
SEQUENCE:3
DTSTAMP:20260421T214354Z
URL:https://business.cultivatesewardcounty.com/events/details/start-date-for-st-vincent-de-paul-school-08-16-2013-2815
END:VEVENT

END:VCALENDAR
