BEGIN:VCALENDAR
VERSION:2.0
PRODID:-//ChamberMaster//Event Calendar 2.0//EN
METHOD:PUBLISH
X-PUBLISHED-TTL:P3D
REFRESH-INTERVAL:P3D
CALSCALE:GREGORIAN
BEGIN:VEVENT
DTSTART;VALUE=DATE:20130814
DTEND;VALUE=DATE:20130815
TRANSP:TRANSPARENT
X-MICROSOFT-CDO-ALLDAYEVENT:TRUE
SUMMARY:St. Vincent de Paul starting date for CCD & God Parents
DESCRIPTION:Start date for St. Vincent de Paul CCD and God Parents
X-ALT-DESC;FMTTYPE=text/html:Start date for St. Vincent de Paul CCD and God Parents
LOCATION:St. Vincent de Paul Church 152 Pinewood Avenue Seward\, NE
UID:e.865.2814
SEQUENCE:3
DTSTAMP:20260421T214650Z
URL:https://business.cultivatesewardcounty.com/events/details/st-vincent-de-paul-starting-date-for-ccd-god-parents-08-14-2013-2814
END:VEVENT

END:VCALENDAR
