BEGIN:VCALENDAR
VERSION:2.0
PRODID:-//ChamberMaster//Event Calendar 2.0//EN
METHOD:PUBLISH
X-PUBLISHED-TTL:P3D
REFRESH-INTERVAL:P3D
CALSCALE:GREGORIAN
BEGIN:VEVENT
DTSTART:20130820T230000Z
DTEND:20130821T010000Z
X-MICROSOFT-CDO-ALLDAYEVENT:FALSE
SUMMARY:St. Vincent de Paul Back to School BBQ
DESCRIPTION:St. Vincent de Paul Back to School BBQ
X-ALT-DESC;FMTTYPE=text/html:St. Vincent de Paul Back to School BBQ
LOCATION:St. Vincent de Paul School 152 Pinewood Avenue Seward\, NE
UID:e.865.2816
SEQUENCE:3
DTSTAMP:20260421T231151Z
URL:https://business.cultivatesewardcounty.com/events/details/st-vincent-de-paul-back-to-school-bbq-08-20-2013-2816
END:VEVENT

END:VCALENDAR
