BEGIN:VCALENDAR
VERSION:2.0
PRODID:-//ChamberMaster//Event Calendar 2.0//EN
METHOD:PUBLISH
X-PUBLISHED-TTL:P3D
REFRESH-INTERVAL:P3D
CALSCALE:GREGORIAN
BEGIN:VEVENT
DTSTART;VALUE=DATE:20130819
DTEND;VALUE=DATE:20130820
TRANSP:TRANSPARENT
X-MICROSOFT-CDO-ALLDAYEVENT:TRUE
SUMMARY:St. Vincent de Paul 4 Year Old Pre-school
DESCRIPTION:St. Vincent de Paul 4 year old pre-school
X-ALT-DESC;FMTTYPE=text/html:St. Vincent de Paul 4 year old pre-school
LOCATION:152 Pinewood Avenue Seward\, NE
UID:e.865.2817
SEQUENCE:3
DTSTAMP:20260421T214932Z
URL:https://business.cultivatesewardcounty.com/events/details/st-vincent-de-paul-4-year-old-pre-school-08-19-2013-2817
END:VEVENT

END:VCALENDAR
