BEGIN:VCALENDAR
VERSION:2.0
PRODID:-//ChamberMaster//Event Calendar 2.0//EN
METHOD:PUBLISH
X-PUBLISHED-TTL:P3D
REFRESH-INTERVAL:P3D
CALSCALE:GREGORIAN
BEGIN:VEVENT
DTSTART;VALUE=DATE:20130820
DTEND;VALUE=DATE:20130821
TRANSP:TRANSPARENT
X-MICROSOFT-CDO-ALLDAYEVENT:TRUE
SUMMARY:St. Vincent de Paul 3 Year Old Pre-school
DESCRIPTION:St. Vincent de Paul 3 Year Old Pre-school
X-ALT-DESC;FMTTYPE=text/html:St. Vincent de Paul 3 Year Old Pre-school
LOCATION:152 Pinewood Avenue Seward\, NE
UID:e.865.2818
SEQUENCE:3
DTSTAMP:20260421T214420Z
URL:https://business.cultivatesewardcounty.com/events/details/st-vincent-de-paul-3-year-old-pre-school-08-20-2013-2818
END:VEVENT

END:VCALENDAR
