BEGIN:VCALENDAR
VERSION:2.0
PRODID:-//ChamberMaster//Event Calendar 2.0//EN
METHOD:PUBLISH
X-PUBLISHED-TTL:P3D
REFRESH-INTERVAL:P3D
CALSCALE:GREGORIAN
BEGIN:VEVENT
DTSTART;VALUE=DATE:20130601
DTEND;VALUE=DATE:20130602
TRANSP:TRANSPARENT
X-MICROSOFT-CDO-ALLDAYEVENT:TRUE
SUMMARY:St. John Youth Garage Sale
DESCRIPTION:St. John Youth Garage Sale  -
X-ALT-DESC;FMTTYPE=text/html:St. John Youth Garage Sale&nbsp\; -&nbsp\; 
LOCATION:St. John Lutheran School 919 North Columbia Avenue Seward\, NE
UID:e.865.2295
SEQUENCE:3
DTSTAMP:20260422T003116Z
URL:https://business.cultivatesewardcounty.com/events/details/st-john-youth-garage-sale-06-01-2013-2295
END:VEVENT

END:VCALENDAR
