BEGIN:VCALENDAR
VERSION:2.0
PRODID:-//ChamberMaster//Event Calendar 2.0//EN
METHOD:PUBLISH
X-PUBLISHED-TTL:P3D
REFRESH-INTERVAL:P3D
CALSCALE:GREGORIAN
BEGIN:VEVENT
DTSTART:20131207T143000Z
DTEND:20131207T180000Z
X-MICROSOFT-CDO-ALLDAYEVENT:FALSE
SUMMARY:St. John's "Breakfast at Bethlehem" with children's activities to follow
DESCRIPTION:St. John's "Breakfast at Bethlehem" with children's activities to follow\n\n\n\nBreakfast will be served from 8:30 am to 10:00 am.  Children's activities will be from 9:00 am to 12 noon.  There is a cost of $1.00 per person\, adult or child.
X-ALT-DESC;FMTTYPE=text/html:St. John&#39\;s &quot\;Breakfast at Bethlehem&quot\; with children&#39\;s activities to follow<br />\n<br />\nBreakfast will be served from 8:30 am to 10:00 am.&nbsp\; Children&#39\;s activities will be from 9:00 am to 12 noon.&nbsp\; There is a cost of $1.00 per person\, adult or child.
LOCATION:St. John's Lutheran Church 919 N. Columbia Seward\, NE Enter on the lower level
UID:e.865.3395
SEQUENCE:3
DTSTAMP:20260421T163326Z
URL:https://business.cultivatesewardcounty.com/events/details/st-john-s-breakfast-at-bethlehem-with-children-s-activities-to-follow-12-07-2013-3395
END:VEVENT

END:VCALENDAR
