BEGIN:VCALENDAR
VERSION:2.0
PRODID:-//ChamberMaster//Event Calendar 2.0//EN
METHOD:PUBLISH
X-PUBLISHED-TTL:P3D
REFRESH-INTERVAL:P3D
CALSCALE:GREGORIAN
BEGIN:VEVENT
DTSTART;VALUE=DATE:20130815
DTEND;VALUE=DATE:20130816
TRANSP:TRANSPARENT
X-MICROSOFT-CDO-ALLDAYEVENT:TRUE
SUMMARY:St. John Lutheran School First Day of Classes
DESCRIPTION:St. John Lutheran School's first day of the fall semester
X-ALT-DESC;FMTTYPE=text/html:St. John Lutheran School&#39\;s first day of the fall semester
LOCATION:St. John Lutheran School 877 N Columbia Seward\, NE
UID:e.865.2820
SEQUENCE:3
DTSTAMP:20260421T214326Z
URL:https://business.cultivatesewardcounty.com/events/details/st-john-lutheran-school-first-day-of-classes-08-15-2013-2820
END:VEVENT

END:VCALENDAR
