BEGIN:VCALENDAR
VERSION:2.0
PRODID:-//ChamberMaster//Event Calendar 2.0//EN
METHOD:PUBLISH
X-PUBLISHED-TTL:P3D
REFRESH-INTERVAL:P3D
CALSCALE:GREGORIAN
BEGIN:VEVENT
DTSTART:20130603T133000Z
DTEND:20130607T163000Z
X-MICROSOFT-CDO-ALLDAYEVENT:FALSE
SUMMARY:St. John' Lutheran Church Vacation Bible School
DESCRIPTION:St. John's Lutheran Church Vacation Bible School open to grades Pre-K through 5th.
X-ALT-DESC;FMTTYPE=text/html:St. John&#39\;s Lutheran Church Vacation Bible School open to grades Pre-K through 5th.
LOCATION:St. John's Lutheran Church 919 North Columbia St. Seward\, NE
UID:e.865.2094
SEQUENCE:3
DTSTAMP:20260422T003525Z
URL:https://business.cultivatesewardcounty.com/events/details/st-john-lutheran-church-vacation-bible-school-06-03-2013-2094
END:VEVENT

END:VCALENDAR
