BEGIN:VCALENDAR
VERSION:2.0
PRODID:-//ChamberMaster//Event Calendar 2.0//EN
METHOD:PUBLISH
X-PUBLISHED-TTL:P3D
REFRESH-INTERVAL:P3D
CALSCALE:GREGORIAN
BEGIN:VEVENT
DTSTART:20140602T133000Z
DTEND:20140602T163000Z
X-MICROSOFT-CDO-ALLDAYEVENT:FALSE
SUMMARY:St. John Lutheran Church Vacation Bible School
DESCRIPTION:St. John's Lutheran Church Vacation Bible School
X-ALT-DESC;FMTTYPE=text/html:St. John&#39\;s Lutheran Church Vacation Bible School
LOCATION:St. John's Lutheran Church 919 N. Columbia Seward\, NE
UID:e.865.3914
SEQUENCE:3
DTSTAMP:20260421T084251Z
URL:https://business.cultivatesewardcounty.com/events/details/st-john-lutheran-church-vacation-bible-school-06-02-2014-3914
END:VEVENT

END:VCALENDAR
