BEGIN:VCALENDAR
VERSION:2.0
PRODID:-//ChamberMaster//Event Calendar 2.0//EN
METHOD:PUBLISH
X-PUBLISHED-TTL:P3D
REFRESH-INTERVAL:P3D
CALSCALE:GREGORIAN
BEGIN:VEVENT
DTSTART:20131117T193000Z
DTEND:20131117T223000Z
X-MICROSOFT-CDO-ALLDAYEVENT:FALSE
SUMMARY:St. Gregory - The Great Seminary Open House
DESCRIPTION:St. Gregory - The Great Seminary Open House  -  Public encouraged to visit
X-ALT-DESC;FMTTYPE=text/html:St. Gregory - The Great Seminary Open House&nbsp\; -&nbsp\; Public encouraged to visit 
LOCATION:St. Gregory - The Great Seminary 800 Fletcher Road Seward\, NE
UID:e.865.3400
SEQUENCE:3
DTSTAMP:20260421T175918Z
URL:https://business.cultivatesewardcounty.com/events/details/st-gregory-the-great-seminary-open-house-11-17-2013-3400
END:VEVENT

END:VCALENDAR
