BEGIN:VCALENDAR
VERSION:2.0
PRODID:-//ChamberMaster//Event Calendar 2.0//EN
METHOD:PUBLISH
X-PUBLISHED-TTL:P3D
REFRESH-INTERVAL:P3D
CALSCALE:GREGORIAN
BEGIN:VEVENT
DTSTART:20121210T010000Z
DTEND:20121210T020000Z
X-MICROSOFT-CDO-ALLDAYEVENT:FALSE
SUMMARY:St. Gregory the Great Seminary Concert
DESCRIPTION:"Advent Lessons & Carols"
X-ALT-DESC;FMTTYPE=text/html:&quot\;Advent Lessons &amp\; Carols&quot\;
LOCATION:St. Gregory the Great Seminary Chapel
UID:e.865.1707
SEQUENCE:3
DTSTAMP:20260422T083904Z
URL:https://business.cultivatesewardcounty.com/events/details/st-gregory-the-great-seminary-concert-12-09-2012-1707
END:VEVENT

END:VCALENDAR
