BEGIN:VCALENDAR
VERSION:2.0
PRODID:-//ChamberMaster//Event Calendar 2.0//EN
METHOD:PUBLISH
X-PUBLISHED-TTL:P3D
REFRESH-INTERVAL:P3D
CALSCALE:GREGORIAN
BEGIN:VEVENT
DTSTART:20131209T010000Z
DTEND:20131209T020000Z
X-MICROSOFT-CDO-ALLDAYEVENT:FALSE
SUMMARY:St. Gregory's Advent Lessons & Carols - open to the public
DESCRIPTION:St. Gregory's Advent Lessons and Carols  -  Open to the public
X-ALT-DESC;FMTTYPE=text/html:St. Gregory&#39\;s Advent Lessons and Carols&nbsp\; -&nbsp\; Open to the public
LOCATION:St. Gregory - The Great Seminary 800 Fletcher Road Seward\, NE
UID:e.865.3399
SEQUENCE:3
DTSTAMP:20260421T180137Z
URL:https://business.cultivatesewardcounty.com/events/details/st-gregory-s-advent-lessons-carols-open-to-the-public-12-08-2013-3399
END:VEVENT

END:VCALENDAR
