BEGIN:VCALENDAR
VERSION:2.0
PRODID:-//ChamberMaster//Event Calendar 2.0//EN
METHOD:PUBLISH
X-PUBLISHED-TTL:P3D
REFRESH-INTERVAL:P3D
CALSCALE:GREGORIAN
BEGIN:VEVENT
DTSTART:20130317T193000Z
DTEND:20130317T203000Z
X-MICROSOFT-CDO-ALLDAYEVENT:FALSE
SUMMARY:Spend St. Patrick's Day in the Holy Land
DESCRIPTION:John and Jana Hughes will lead guests through the Holy Land on Sunday\, March 17 at 2:30 p.m.  Last June they joined a study group and spent two weeks traveling in Israel.  They will share stories and pictures of their experiences.  Everyone is welcome to this one-hour travelogue at the Seward Memorial Library.
X-ALT-DESC;FMTTYPE=text/html:John and Jana Hughes will lead guests through the Holy Land on Sunday\, March 17 at 2:30 p.m.&nbsp\; Last June they joined a study group and spent two weeks traveling in Israel.&nbsp\; They will share stories and pictures&nbsp\;of their experiences.&nbsp\; Everyone is welcome to this one-hour travelogue at the Seward Memorial Library.
LOCATION:Seward Memorial Library
UID:e.865.1752
SEQUENCE:3
DTSTAMP:20260422T044549Z
URL:https://business.cultivatesewardcounty.com/events/details/spend-st-patrick-s-day-in-the-holy-land-03-17-2013-1752
END:VEVENT

END:VCALENDAR
