BEGIN:VCALENDAR
VERSION:2.0
PRODID:-//ChamberMaster//Event Calendar 2.0//EN
METHOD:PUBLISH
X-PUBLISHED-TTL:P3D
REFRESH-INTERVAL:P3D
CALSCALE:GREGORIAN
BEGIN:VEVENT
DTSTART;VALUE=DATE:20130727
DTEND;VALUE=DATE:20130728
TRANSP:TRANSPARENT
X-MICROSOFT-CDO-ALLDAYEVENT:TRUE
SUMMARY:Softball Team Camp for High School Teams
DESCRIPTION:Team Camp for High School Softball Teams.  Can register online at:\n\n\n\nhttp://www.cune.edu
X-ALT-DESC;FMTTYPE=text/html:Team Camp for High School Softball Teams.&nbsp\; Can register online at:<br />\n<br />\n<a href="http://www.cune.edu">http://www.cune.edu</a>
LOCATION:Plum Creek Sports Complex 2222 Karol Kay Blvd. Seward\, NE
UID:e.865.2100
SEQUENCE:3
DTSTAMP:20260421T231131Z
URL:https://business.cultivatesewardcounty.com/events/details/softball-team-camp-for-high-school-teams-07-27-2013-2100
END:VEVENT

END:VCALENDAR
