BEGIN:VCALENDAR
VERSION:2.0
PRODID:-//ChamberMaster//Event Calendar 2.0//EN
METHOD:PUBLISH
X-PUBLISHED-TTL:P3D
REFRESH-INTERVAL:P3D
CALSCALE:GREGORIAN
BEGIN:VEVENT
DTSTART:20110622T190000Z
DTEND:20110622T203000Z
X-MICROSOFT-CDO-ALLDAYEVENT:FALSE
SUMMARY:Skype Author Visit
DESCRIPTION:Meet Christine Diaz Gonzalez\, author of "The Red Umbrella\," a compelling middle-grades novel set in the 1960s in Cuba and Grand Island\, Nebraska.  You'll be able to ask her questions and have books personally signed.
X-ALT-DESC;FMTTYPE=text/html:Meet Christine Diaz Gonzalez\, author of "The Red Umbrella\," a compelling middle-grades novel set in the 1960s in Cuba and Grand Island\, Nebraska.  You'll be able to ask her questions and have books personally signed.
LOCATION:Chapters Books * Gifts 548 Seward Street\, Seward
UID:e.865.1069
SEQUENCE:3
DTSTAMP:20260424T215610Z
URL:https://business.cultivatesewardcounty.com/events/details/skype-author-visit-06-22-2011-1069
END:VEVENT

END:VCALENDAR
