BEGIN:VCALENDAR
VERSION:2.0
PRODID:-//ChamberMaster//Event Calendar 2.0//EN
METHOD:PUBLISH
X-PUBLISHED-TTL:P3D
REFRESH-INTERVAL:P3D
CALSCALE:GREGORIAN
BEGIN:VEVENT
DTSTART:20111109T010000Z
DTEND:20111109T030000Z
X-MICROSOFT-CDO-ALLDAYEVENT:FALSE
SUMMARY:SHS Evening of One Acts
DESCRIPTION:Seward High School - "An Evening of One Acts"\n\n\n\nCome support Seward High School students as they perform in 3 "One Acts" to include 1 competition piece.
X-ALT-DESC;FMTTYPE=text/html:Seward High School - &quot\;An Evening of One Acts&quot\;<br />\n<br />\nCome support Seward High School students as they perform in 3 &quot\;One Acts&quot\; to include 1 competition piece.
LOCATION:Seward High School 532 Northern Heights Dr. Seward\, NE 68434
UID:e.865.1160
SEQUENCE:3
DTSTAMP:20260424T141617Z
URL:https://business.cultivatesewardcounty.com/events/details/shs-evening-of-one-acts-11-08-2011-1160
END:VEVENT

END:VCALENDAR
