BEGIN:VCALENDAR
VERSION:2.0
PRODID:-//ChamberMaster//Event Calendar 2.0//EN
METHOD:PUBLISH
X-PUBLISHED-TTL:P3D
REFRESH-INTERVAL:P3D
CALSCALE:GREGORIAN
BEGIN:VEVENT
DTSTART;VALUE=DATE:20120109
DTEND;VALUE=DATE:20120202
TRANSP:TRANSPARENT
X-MICROSOFT-CDO-ALLDAYEVENT:TRUE
SUMMARY:Sheldon Museum of Art Exhibit at Concordia
DESCRIPTION:Sheldon Museum of Art Exhibit at Concordia University/Seward\, NE\n\n\n\nvisit www.cune.edu for more information
X-ALT-DESC;FMTTYPE=text/html:Sheldon Museum of Art Exhibit at Concordia University/Seward\, NE<br />\n<br />\nvisit <a href="http://www.cune.edu">www.cune.edu</a> for more information
LOCATION:
UID:e.865.1198
SEQUENCE:3
DTSTAMP:20260424T100429Z
URL:https://business.cultivatesewardcounty.com/events/details/sheldon-museum-of-art-exhibit-at-concordia-01-09-2012-1198
END:VEVENT

END:VCALENDAR
