BEGIN:VCALENDAR
VERSION:2.0
PRODID:-//ChamberMaster//Event Calendar 2.0//EN
METHOD:PUBLISH
X-PUBLISHED-TTL:P3D
REFRESH-INTERVAL:P3D
CALSCALE:GREGORIAN
BEGIN:VEVENT
DTSTART:20110921T000000Z
DTEND:20110921T010000Z
X-MICROSOFT-CDO-ALLDAYEVENT:FALSE
SUMMARY:SFMC - Diabetic Support Group
DESCRIPTION:Memorial Health Care Systems hosts a Diabetic Support Group at the Seward\, NE Family Medical Center Lower Level Conference Room.  Presentation will be A1C Champion - Taking Control - sponsored by sanofi-aventis.
X-ALT-DESC;FMTTYPE=text/html:Memorial Health Care Systems hosts a Diabetic Support Group at the Seward\, NE Family Medical Center Lower Level Conference Room.&nbsp\; Presentation will be A1C Champion - Taking Control - sponsored by sanofi-aventis.
LOCATION:Seward Family Medical Center Lower Level Conference Room 300 N. Columbia Ave\, Seward\, NE 68434
UID:e.865.1143
SEQUENCE:3
DTSTAMP:20260424T171715Z
URL:https://business.cultivatesewardcounty.com/events/details/sfmc-diabetic-support-group-09-20-2011-1143
END:VEVENT

END:VCALENDAR
