BEGIN:VCALENDAR
VERSION:2.0
PRODID:-//ChamberMaster//Event Calendar 2.0//EN
METHOD:PUBLISH
X-PUBLISHED-TTL:P3D
REFRESH-INTERVAL:P3D
CALSCALE:GREGORIAN
BEGIN:VEVENT
DTSTART:20131114T220000Z
DTEND:20131114T230000Z
X-MICROSOFT-CDO-ALLDAYEVENT:FALSE
SUMMARY:Seward Youth Center World Record Cup Stacking Day
DESCRIPTION:Seward Youth Center "World Record Cup Stacking Day"   -  help stack cups for the Guinness Book of World Records.\n\n\n\nhttp://www.sewardyouthcenter.org
X-ALT-DESC;FMTTYPE=text/html:Seward Youth Center &quot\;World Record Cup Stacking Day&quot\;&nbsp\;&nbsp\; -&nbsp\; help stack cups for the Guinness Book of World Records.<br />\n<br />\n<a href="http://www.sewardyouthcenter.org">http://www.sewardyouthcenter.org</a>
LOCATION:Seward Youth Center 211 South 4th St. Seward\, NE
UID:e.865.3397
SEQUENCE:3
DTSTAMP:20260421T180137Z
URL:https://business.cultivatesewardcounty.com/events/details/seward-youth-center-world-record-cup-stacking-day-11-14-2013-3397
END:VEVENT

END:VCALENDAR
