BEGIN:VCALENDAR
VERSION:2.0
PRODID:-//ChamberMaster//Event Calendar 2.0//EN
METHOD:PUBLISH
X-PUBLISHED-TTL:P3D
REFRESH-INTERVAL:P3D
CALSCALE:GREGORIAN
BEGIN:VEVENT
DTSTART:20130819T200000Z
DTEND:20130819T230000Z
X-MICROSOFT-CDO-ALLDAYEVENT:FALSE
SUMMARY:Seward Youth Center Opens for Fall Semester
DESCRIPTION:Seward Youth Center opens for the fall semester.  The Center is open from Monday through Friday during the school year.
X-ALT-DESC;FMTTYPE=text/html:Seward Youth Center opens for the fall semester.&nbsp\; The Center is open from Monday through Friday during the school year.
LOCATION:211 South 4th Street
UID:e.865.2824
SEQUENCE:3
DTSTAMP:20260421T214420Z
URL:https://business.cultivatesewardcounty.com/events/details/seward-youth-center-opens-for-fall-semester-08-19-2013-2824
END:VEVENT

END:VCALENDAR
