BEGIN:VCALENDAR
VERSION:2.0
PRODID:-//ChamberMaster//Event Calendar 2.0//EN
METHOD:PUBLISH
X-PUBLISHED-TTL:P3D
REFRESH-INTERVAL:P3D
CALSCALE:GREGORIAN
BEGIN:VEVENT
DTSTART:20130908T180000Z
DTEND:20130908T200000Z
X-MICROSOFT-CDO-ALLDAYEVENT:FALSE
SUMMARY:Seward Youth Center Open House with free ice cream
DESCRIPTION:Seward Youth Center Open House with free ice cream
X-ALT-DESC;FMTTYPE=text/html:Seward Youth Center Open House with free ice cream
LOCATION:Seward Youth Center 211 South 4th Street Seward\, NE
UID:e.865.2911
SEQUENCE:3
DTSTAMP:20260421T205007Z
URL:https://business.cultivatesewardcounty.com/events/details/seward-youth-center-open-house-with-free-ice-cream-09-08-2013-2911
END:VEVENT

END:VCALENDAR
