BEGIN:VCALENDAR
VERSION:2.0
PRODID:-//ChamberMaster//Event Calendar 2.0//EN
METHOD:PUBLISH
X-PUBLISHED-TTL:P3D
REFRESH-INTERVAL:P3D
CALSCALE:GREGORIAN
BEGIN:VEVENT
DTSTART:20130413T160000Z
DTEND:20130413T190000Z
X-MICROSOFT-CDO-ALLDAYEVENT:FALSE
SUMMARY:Seward Youth Center Mother/Son Amazing Race
DESCRIPTION:Seward Youth Center Mother/Son Amazing Race\n\n\n\nRace for moms (other parent or guardian welcome if mom is unavailable) and sons\n\n(K-8th grades).  Prizes for top three finishers.  Subway sandwiches\, music\, games and MORE!!
X-ALT-DESC;FMTTYPE=text/html:Seward Youth Center Mother/Son Amazing Race<br />\n<br />\nRace for moms (other parent or guardian welcome if mom is unavailable) and sons<br />\n(K-8th grades).&nbsp\; Prizes for top three finishers.&nbsp\; Subway sandwiches\, music\, games and MORE!!
LOCATION:Begin at Cattle Conference Room\, Concordia University North Columbia Seward
UID:e.865.1918
SEQUENCE:3
DTSTAMP:20260422T032122Z
URL:https://business.cultivatesewardcounty.com/events/details/seward-youth-center-mother-son-amazing-race-04-13-2013-1918
END:VEVENT

END:VCALENDAR
