BEGIN:VCALENDAR
VERSION:2.0
PRODID:-//ChamberMaster//Event Calendar 2.0//EN
METHOD:PUBLISH
X-PUBLISHED-TTL:P3D
REFRESH-INTERVAL:P3D
CALSCALE:GREGORIAN
BEGIN:VEVENT
DTSTART:20131109T000000Z
DTEND:20131109T030000Z
X-MICROSOFT-CDO-ALLDAYEVENT:FALSE
SUMMARY:Seward Youth Center Mother Daughter Spa Day
DESCRIPTION:Seward Youth Center Mother Daughter Spa Day\n\n\n\nMore information to follow            http://sewardyouthcenter.org/
X-ALT-DESC;FMTTYPE=text/html:Seward Youth Center Mother Daughter Spa Day<br />\n<br />\nMore information to follow&nbsp\;&nbsp\;&nbsp\;&nbsp\;&nbsp\;&nbsp\;&nbsp\;&nbsp\;&nbsp\;&nbsp\;&nbsp\;&nbsp\;<a href="http://sewardyouthcenter.org/">http://sewardyouthcenter.org/</a>
LOCATION:Seward County Fairgrounds Harvest Hall 500 N 14th St. Seward. NE
UID:e.865.2773
SEQUENCE:3
DTSTAMP:20260421T180339Z
URL:https://business.cultivatesewardcounty.com/events/details/seward-youth-center-mother-daughter-spa-day-11-08-2013-2773
END:VEVENT

END:VCALENDAR
