BEGIN:VCALENDAR
VERSION:2.0
PRODID:-//ChamberMaster//Event Calendar 2.0//EN
METHOD:PUBLISH
X-PUBLISHED-TTL:P3D
REFRESH-INTERVAL:P3D
CALSCALE:GREGORIAN
BEGIN:VEVENT
DTSTART:20131012T000000Z
DTEND:20131012T020000Z
X-MICROSOFT-CDO-ALLDAYEVENT:FALSE
SUMMARY:Seward Youth Center Fun Night for Grades 7th & 8th
DESCRIPTION:Seward Youth Center Fun Night for Grades 7th and 8th\n\n\n\nhttp://www.sewardyouthcenter.org
X-ALT-DESC;FMTTYPE=text/html:Seward Youth Center Fun Night for Grades 7th and 8th<br />\n<br />\nhttp<a href="http://www.sewardyouthcenter.org">://www.sewardyouthcenter.or</a>g 
LOCATION:Seward Youth Center 211 South 4th St. Seward\, NE
UID:e.865.2913
SEQUENCE:3
DTSTAMP:20260421T204543Z
URL:https://business.cultivatesewardcounty.com/events/details/seward-youth-center-fun-night-for-grades-7th-8th-10-11-2013-2913
END:VEVENT

END:VCALENDAR
