BEGIN:VCALENDAR
VERSION:2.0
PRODID:-//ChamberMaster//Event Calendar 2.0//EN
METHOD:PUBLISH
X-PUBLISHED-TTL:P3D
REFRESH-INTERVAL:P3D
CALSCALE:GREGORIAN
BEGIN:VEVENT
DTSTART:20131116T010000Z
DTEND:20131116T030000Z
X-MICROSOFT-CDO-ALLDAYEVENT:FALSE
SUMMARY:Seward Youth Center Fun Night for Grades 5th & 6th
DESCRIPTION:Seward Youth Center Fun Night for Grades 5th & 6th\n\n\n\nhttp://www.sewardyouthcenter.org
X-ALT-DESC;FMTTYPE=text/html:Seward Youth Center Fun Night for Grades 5th &amp\; 6th<br />\n<br />\n<a href="http://www.sewardyouthcenter.org">http://www.sewardyouthcenter.org</a>
LOCATION:Seward Youth Center 211 South 4th St. Seward\, NE
UID:e.865.3398
SEQUENCE:3
DTSTAMP:20260421T180132Z
URL:https://business.cultivatesewardcounty.com/events/details/seward-youth-center-fun-night-for-grades-5th-6th-11-15-2013-3398
END:VEVENT

END:VCALENDAR
