BEGIN:VCALENDAR
VERSION:2.0
PRODID:-//ChamberMaster//Event Calendar 2.0//EN
METHOD:PUBLISH
X-PUBLISHED-TTL:P3D
REFRESH-INTERVAL:P3D
CALSCALE:GREGORIAN
BEGIN:VEVENT
DTSTART:20130928T000000Z
DTEND:20130928T020000Z
X-MICROSOFT-CDO-ALLDAYEVENT:FALSE
SUMMARY:Seward Youth Center Fun Night for Grades 5th & 6th
DESCRIPTION:Seward Youth Center Fun Night for Grades 5th and 6th
X-ALT-DESC;FMTTYPE=text/html:Seward Youth Center Fun Night for Grades 5th and 6th
LOCATION:Seward Youth Center 211 South 4th Street Seward\, NE
UID:e.865.2912
SEQUENCE:3
DTSTAMP:20260421T204715Z
URL:https://business.cultivatesewardcounty.com/events/details/seward-youth-center-fun-night-for-grades-5th-6th-09-27-2013-2912
END:VEVENT

END:VCALENDAR
