BEGIN:VCALENDAR
VERSION:2.0
PRODID:-//ChamberMaster//Event Calendar 2.0//EN
METHOD:PUBLISH
X-PUBLISHED-TTL:P3D
REFRESH-INTERVAL:P3D
CALSCALE:GREGORIAN
BEGIN:VEVENT
DTSTART:20130404T000000Z
DTEND:20130404T023000Z
X-MICROSOFT-CDO-ALLDAYEVENT:FALSE
SUMMARY:Seward Youth Center Fun Night for 4th grade students
DESCRIPTION:Seward Youth Center Fun Night - 4th grade students\n\n\n\nAnyone who wants to volunteer to assist should contact Matt Wingert at 402-643-3337 between the hours of 3 pm to 6 pm week days.
X-ALT-DESC;FMTTYPE=text/html:Seward Youth Center Fun Night - 4th grade students<br />\n<br />\nAnyone who wants to volunteer to assist should contact Matt Wingert at 402-643-3337 between the hours of 3 pm to 6 pm week days.
LOCATION:Seward Youth Center 211 South 4th Street Seward\, NE
UID:e.865.2083
SEQUENCE:3
DTSTAMP:20260422T031954Z
URL:https://business.cultivatesewardcounty.com/events/details/seward-youth-center-fun-night-for-4th-grade-students-04-03-2013-2083
END:VEVENT

END:VCALENDAR
