BEGIN:VCALENDAR
VERSION:2.0
PRODID:-//ChamberMaster//Event Calendar 2.0//EN
METHOD:PUBLISH
X-PUBLISHED-TTL:P3D
REFRESH-INTERVAL:P3D
CALSCALE:GREGORIAN
BEGIN:VEVENT
DTSTART:20130504T000000Z
DTEND:20130504T023000Z
X-MICROSOFT-CDO-ALLDAYEVENT:FALSE
SUMMARY:Seward Youth Center Fun Night
DESCRIPTION:Seward Youth Center Fun Night for Grades 5th & 6th grades\n\n\n\nAnyone who wants to volunteer to assist should contact Matt Wingert at 402-643-3337 between the hours of 3 pm to 6 pm week days.
X-ALT-DESC;FMTTYPE=text/html:Seward Youth Center Fun Night for Grades 5th &amp\; 6th grades<br />\n<br />\nAnyone who wants to volunteer to assist should contact Matt Wingert at 402-643-3337 between the hours of 3 pm to 6 pm week days.
LOCATION:Seward Youth Center 211 South 4th Street Seward\, NE
UID:e.865.2082
SEQUENCE:3
DTSTAMP:20260422T015233Z
URL:https://business.cultivatesewardcounty.com/events/details/seward-youth-center-fun-night-05-03-2013-2082
END:VEVENT

END:VCALENDAR
