BEGIN:VCALENDAR
VERSION:2.0
PRODID:-//ChamberMaster//Event Calendar 2.0//EN
METHOD:PUBLISH
X-PUBLISHED-TTL:P3D
REFRESH-INTERVAL:P3D
CALSCALE:GREGORIAN
BEGIN:VEVENT
DTSTART;VALUE=DATE:20130412
DTEND;VALUE=DATE:20130413
TRANSP:TRANSPARENT
X-MICROSOFT-CDO-ALLDAYEVENT:TRUE
SUMMARY:Seward Youth Center Fun Night
DESCRIPTION:Seward Youth Center Fun Night for Grades 7th & 8th
X-ALT-DESC;FMTTYPE=text/html:Seward Youth Center Fun Night for Grades 7th &amp\; 8th
LOCATION:Seward Youth Center 211 South 4th Street Seward\, NE
UID:e.865.1916
SEQUENCE:3
DTSTAMP:20260422T031744Z
URL:https://business.cultivatesewardcounty.com/events/details/seward-youth-center-fun-night-04-12-2013-1916
END:VEVENT

END:VCALENDAR
