BEGIN:VCALENDAR
VERSION:2.0
PRODID:-//ChamberMaster//Event Calendar 2.0//EN
METHOD:PUBLISH
X-PUBLISHED-TTL:P3D
REFRESH-INTERVAL:P3D
CALSCALE:GREGORIAN
BEGIN:VEVENT
DTSTART;VALUE=DATE:20130921
DTEND;VALUE=DATE:20130922
TRANSP:TRANSPARENT
X-MICROSOFT-CDO-ALLDAYEVENT:TRUE
SUMMARY:Seward Youth Center Father Son Outdoor Day
DESCRIPTION:Seward Youth Center Father Son Outdoor Day at the Isaac Walton Cabin beginning at 9:00 am and ending at 1:00 pm.  Lunch will be provided for participants.  The Nebraska Game and Parks will bring their Outdoor Adventure trailer to the event.\n\n\n\nMore information to follow   http://sewardyouthcenter.org/
X-ALT-DESC;FMTTYPE=text/html:Seward Youth Center Father Son Outdoor Day&nbsp\;at the Isaac Walton Cabin beginning at 9:00 am and ending at 1:00 pm.&nbsp\; Lunch will be provided for participants.&nbsp\; The Nebraska Game and Parks will bring their Outdoor Adventure trailer to the event.<br />\n<br />\nMore information to follow&nbsp\;&nbsp\; <a href="http://sewardyouthcenter.org/">http://sewardyouthcenter.org/</a>
LOCATION:Isaac Walton Cabin 1406 Izaak Walton Road Seward\, NE
UID:e.865.2772
SEQUENCE:3
DTSTAMP:20260421T205021Z
URL:https://business.cultivatesewardcounty.com/events/details/seward-youth-center-father-son-outdoor-day-09-21-2013-2772
END:VEVENT

END:VCALENDAR
