BEGIN:VCALENDAR
VERSION:2.0
PRODID:-//ChamberMaster//Event Calendar 2.0//EN
METHOD:PUBLISH
X-PUBLISHED-TTL:P3D
REFRESH-INTERVAL:P3D
CALSCALE:GREGORIAN
BEGIN:VEVENT
DTSTART;VALUE=DATE:20130408
DTEND;VALUE=DATE:20130409
TRANSP:TRANSPARENT
X-MICROSOFT-CDO-ALLDAYEVENT:TRUE
SUMMARY:Seward Youth Center Bowling Night
DESCRIPTION:Seward Youth Center Bowling Night
X-ALT-DESC;FMTTYPE=text/html:Seward Youth Center Bowling Night
LOCATION:Seward Bowl 123 South 4th St. Seward\, NE
UID:e.865.1914
SEQUENCE:3
DTSTAMP:20260422T044145Z
URL:https://business.cultivatesewardcounty.com/events/details/seward-youth-center-bowling-night-04-08-2013-1914
END:VEVENT

END:VCALENDAR
