BEGIN:VCALENDAR
VERSION:2.0
PRODID:-//ChamberMaster//Event Calendar 2.0//EN
METHOD:PUBLISH
X-PUBLISHED-TTL:P3D
REFRESH-INTERVAL:P3D
CALSCALE:GREGORIAN
BEGIN:VEVENT
DTSTART:20140618T140000Z
DTEND:20140618T160000Z
X-MICROSOFT-CDO-ALLDAYEVENT:FALSE
SUMMARY:Seward United Methodist Church Vacation Bible School
DESCRIPTION:Seward United Methodist Church Vacation Bible Study  -  "Growing with God"
X-ALT-DESC;FMTTYPE=text/html:Seward United Methodist Church Vacation Bible Study&nbsp\; -&nbsp\; &quot\;Growing with God&quot\;<br />\n&nbsp\;
LOCATION:Seward United Methodist Church 1400 North 5th St. Seward\, NE
UID:e.865.3902
SEQUENCE:3
DTSTAMP:20260421T083307Z
URL:https://business.cultivatesewardcounty.com/events/details/seward-united-methodist-church-vacation-bible-school-06-18-2014-3902
END:VEVENT

END:VCALENDAR
