BEGIN:VCALENDAR
VERSION:2.0
PRODID:-//ChamberMaster//Event Calendar 2.0//EN
METHOD:PUBLISH
X-PUBLISHED-TTL:P3D
REFRESH-INTERVAL:P3D
CALSCALE:GREGORIAN
BEGIN:VEVENT
DTSTART:20130617T140000Z
DTEND:20130620T163000Z
X-MICROSOFT-CDO-ALLDAYEVENT:FALSE
SUMMARY:Seward United Methodist Church Vacation Bible School
DESCRIPTION:Seward United Methodist Church Vacation Bible School\n\n\n\nOpen kids from Pre K (kids going to Kindergarten next year) through 6th grade.\n\n\n\nwww.sewardumc.org
X-ALT-DESC;FMTTYPE=text/html:Seward United Methodist Church Vacation Bible School<br />\n<br />\nOpen kids from Pre K (kids going to Kindergarten next year) through 6th grade.<br />\n<br />\n<a href="http://www.sewardumc.org">www.sewardumc.org</a>
LOCATION:Seward United Methodist Church 1400 North 5th St. Seward\, NE_
UID:e.865.2141
SEQUENCE:3
DTSTAMP:20260422T003622Z
URL:https://business.cultivatesewardcounty.com/events/details/seward-united-methodist-church-vacation-bible-school-06-17-2013-2141
END:VEVENT

END:VCALENDAR
