BEGIN:VCALENDAR
VERSION:2.0
PRODID:-//ChamberMaster//Event Calendar 2.0//EN
METHOD:PUBLISH
X-PUBLISHED-TTL:P3D
REFRESH-INTERVAL:P3D
CALSCALE:GREGORIAN
BEGIN:VEVENT
DTSTART;VALUE=DATE:20120309
DTEND;VALUE=DATE:20120311
TRANSP:TRANSPARENT
X-MICROSOFT-CDO-ALLDAYEVENT:TRUE
SUMMARY:Seward Spring Showcase
DESCRIPTION:23rd Annual Seward Spring Showcase \n\n\n\nFriday Night  - All Exhibits Open\, Shrimp Fry by Seward Country Club\n\n\n\nSaturday - Antique Appraisals with Tom Basset - bring items for appraisal! \n\nTastings\, door prizes\, and other demonstrations throughout the day. \n\nSee a schedule of events on the Chamber of Commerce website.
X-ALT-DESC;FMTTYPE=text/html:<strong>23rd Annual Seward Spring Showcase </strong><br />\n<br />\n<strong>Friday Night</strong>&nbsp\; - All Exhibits Open\, Shrimp Fry by Seward Country Club<br />\n<br />\n<strong>Saturday</strong> - Antique Appraisals with Tom Basset - bring items for appraisal!&nbsp\;<br />\nTastings\, door prizes\, and other demonstrations throughout the day.&nbsp\;<br />\nSee a schedule of events on the Chamber of Commerce website.
LOCATION:Seward Ag Pavilion at the Seward County Fairgrounds
UID:e.865.1375
SEQUENCE:3
DTSTAMP:20260424T082601Z
URL:https://business.cultivatesewardcounty.com/events/details/seward-spring-showcase-03-09-2012-1375
END:VEVENT

END:VCALENDAR
