BEGIN:VCALENDAR
VERSION:2.0
PRODID:-//ChamberMaster//Event Calendar 2.0//EN
METHOD:PUBLISH
X-PUBLISHED-TTL:P3D
REFRESH-INTERVAL:P3D
CALSCALE:GREGORIAN
BEGIN:VEVENT
DTSTART:20120421T130000Z
DTEND:20120421T180000Z
X-MICROSOFT-CDO-ALLDAYEVENT:FALSE
SUMMARY:SEWARD SPRING CLEAN UP
DESCRIPTION:Accepting appliances\, lawn mowers\, grills\, bikes and other scrap metal.  Also accepting electronic devices such as televisions\, computers\, monitors and components for a minimal charge.
X-ALT-DESC;FMTTYPE=text/html:Accepting appliances\, lawn mowers\, grills\, bikes and other scrap metal.&nbsp\; Also accepting electronic devices such as televisions\, computers\, monitors and components for a minimal charge.
LOCATION:The City of Seward Yard on South Columbia Avenue near the water treatment facility.
UID:e.865.1377
SEQUENCE:3
DTSTAMP:20260422T200831Z
URL:https://business.cultivatesewardcounty.com/events/details/seward-spring-clean-up-04-21-2012-1377
END:VEVENT

END:VCALENDAR
