BEGIN:VCALENDAR
VERSION:2.0
PRODID:-//ChamberMaster//Event Calendar 2.0//EN
METHOD:PUBLISH
X-PUBLISHED-TTL:P3D
REFRESH-INTERVAL:P3D
CALSCALE:GREGORIAN
BEGIN:VEVENT
DTSTART:20130413T130000Z
DTEND:20130413T180000Z
X-MICROSOFT-CDO-ALLDAYEVENT:FALSE
SUMMARY:Seward Spring Clean Up
DESCRIPTION:Seward Spring Clean Up - accepting electronic device recycling and various appliances.
X-ALT-DESC;FMTTYPE=text/html:Seward Spring Clean Up - accepting electronic device recycling and various appliances.
LOCATION:Seward Wastewater Plant parking lot 1040 South Columbia Seward\, NE
UID:e.865.1917
SEQUENCE:3
DTSTAMP:20260422T031410Z
URL:https://business.cultivatesewardcounty.com/events/details/seward-spring-clean-up-04-13-2013-1917
END:VEVENT

END:VCALENDAR
