BEGIN:VCALENDAR
VERSION:2.0
PRODID:-//ChamberMaster//Event Calendar 2.0//EN
METHOD:PUBLISH
X-PUBLISHED-TTL:P3D
REFRESH-INTERVAL:P3D
CALSCALE:GREGORIAN
BEGIN:VEVENT
DTSTART:20140614T140000Z
DTEND:20140614T230000Z
X-MICROSOFT-CDO-ALLDAYEVENT:FALSE
SUMMARY:Seward Softball Association Invite
DESCRIPTION:Seward Softball Association Invite  -  Age group softball tournament for girls ages 8 & U\, 10 U\, 12 U\, 14 U\, 16 U and 18 U
X-ALT-DESC;FMTTYPE=text/html:Seward Softball Association Invite&nbsp\; -&nbsp\; Age group softball tournament for girls ages 8 &amp\; U\, 10 U\, 12 U\, 14 U\, 16 U and 18 U
LOCATION:All four fields at Plum Creek Sports Complex and 2 plex in Plum Creek Park 2222 Karol Kay Blvd. Seward\, NE
UID:e.865.3841
SEQUENCE:3
DTSTAMP:20260421T083852Z
URL:https://business.cultivatesewardcounty.com/events/details/seward-softball-association-invite-06-14-2014-3841
END:VEVENT

END:VCALENDAR
