BEGIN:VCALENDAR
VERSION:2.0
PRODID:-//ChamberMaster//Event Calendar 2.0//EN
METHOD:PUBLISH
X-PUBLISHED-TTL:P3D
REFRESH-INTERVAL:P3D
CALSCALE:GREGORIAN
BEGIN:VEVENT
DTSTART:20140209T150000Z
DTEND:20140209T220000Z
X-MICROSOFT-CDO-ALLDAYEVENT:FALSE
SUMMARY:Seward Showcase Basketball Tournament
DESCRIPTION:Seward Showcase Basketball Tournament - youth tournament held for boys and girls teams 3rd grade through 8th grade.  This tournament will be held in various gyms throughout Seward.  Games will begin every 55 minutes with two 18 minute halves.
X-ALT-DESC;FMTTYPE=text/html:<p>\n	Seward Showcase Basketball Tournament&nbsp\;- youth tournament held for boys and girls teams 3rd grade through 8th grade.&nbsp\; This tournament will be held in various gyms throughout Seward.&nbsp\; Games will begin every 55 minutes with two 18 minute halves.</p>\n
LOCATION:Gyms located throughout the community of Seward
UID:e.865.3435
SEQUENCE:3
DTSTAMP:20260421T153618Z
URL:https://business.cultivatesewardcounty.com/events/details/seward-showcase-basketball-tournament-02-09-2014-3435
END:VEVENT

END:VCALENDAR
