BEGIN:VCALENDAR
VERSION:2.0
PRODID:-//ChamberMaster//Event Calendar 2.0//EN
METHOD:PUBLISH
X-PUBLISHED-TTL:P3D
REFRESH-INTERVAL:P3D
CALSCALE:GREGORIAN
BEGIN:VEVENT
DTSTART:20140628T000500Z
DTEND:20140628T023000Z
X-MICROSOFT-CDO-ALLDAYEVENT:FALSE
SUMMARY:Seward Saltdogs Night
DESCRIPTION:Seward Saltdogs Night  -  the Saltdogs will be playing the Wingnuts.  Seward will have a block of tickets and will be honored sometime during the game. \n\n\n\nPurchase your tickets through the Seward Area Chamber of Commerce.  This is a fundraiser for the Chamber.\n\nhttp://www.sewardne.com
X-ALT-DESC;FMTTYPE=text/html:Seward Saltdogs Night&nbsp\; -&nbsp\; the Saltdogs will be playing the Wingnuts.&nbsp\; Seward will have a block of tickets and will be honored sometime during the game.&nbsp\;<br />\n<br />\nPurchase your tickets through the Seward Area Chamber of Commerce.&nbsp\; This is a fundraiser for the Chamber.<br />\n<a href="http://www.sewardne.com">http://www.sewardne.com</a>
LOCATION:Haymarket Sports Complex 403 Line Drive Circle Lincoln\, NE
UID:e.865.3539
SEQUENCE:3
DTSTAMP:20260421T082540Z
URL:https://business.cultivatesewardcounty.com/events/details/seward-saltdogs-night-06-27-2014-3539
END:VEVENT

END:VCALENDAR
