BEGIN:VCALENDAR
VERSION:2.0
PRODID:-//ChamberMaster//Event Calendar 2.0//EN
METHOD:PUBLISH
X-PUBLISHED-TTL:P3D
REFRESH-INTERVAL:P3D
CALSCALE:GREGORIAN
BEGIN:VEVENT
DTSTART;VALUE=DATE:20130704
DTEND;VALUE=DATE:20130705
TRANSP:TRANSPARENT
X-MICROSOFT-CDO-ALLDAYEVENT:TRUE
SUMMARY:Seward's Annual 145th Old Fashioned 4th of July Celebration
DESCRIPTION:Seward Annual 145th Old Fashioned 4th of July Celebration  - \n\n\n\nhttp://www.julyfourthseward.com
X-ALT-DESC;FMTTYPE=text/html:Seward Annual 145th Old Fashioned 4th of July Celebration&nbsp\; -&nbsp\;<br />\n<br />\n<a href="http://www.julyfourthseward.com">http://www.julyfourthseward.com</a><br />\n<br />\n<br />\n
LOCATION:Throughout the entire community
UID:e.865.2774
SEQUENCE:3
DTSTAMP:20260421T231310Z
URL:https://business.cultivatesewardcounty.com/events/details/seward-s-annual-145th-old-fashioned-4th-of-july-celebration-07-04-2013-2774
END:VEVENT

END:VCALENDAR
