BEGIN:VCALENDAR
VERSION:2.0
PRODID:-//ChamberMaster//Event Calendar 2.0//EN
METHOD:PUBLISH
X-PUBLISHED-TTL:P3D
REFRESH-INTERVAL:P3D
CALSCALE:GREGORIAN
BEGIN:VEVENT
DTSTART:20140405T140000Z
DTEND:20140405T220000Z
X-MICROSOFT-CDO-ALLDAYEVENT:FALSE
SUMMARY:Seward's 25th Annual Spring Show
DESCRIPTION:Seward's 25th Annual Spring Show - Visit the approximately 70 booths showcasing regional businesses\, organizations and vendors.  Admission is free.\n\nBooth space rental fee:  $175 Seward Chamber Member\n\n                                       $225 for Non-Member\n\n                                       $  75.00 for Optional Enhanced Marketing\n\nhttp://www.sewardne.com
X-ALT-DESC;FMTTYPE=text/html:Seward&#39\;s 25th Annual Spring Show - Visit the approximately 70 booths showcasing regional businesses\, organizations and vendors.&nbsp\; Admission is free.<br />\nBooth space rental fee:&nbsp\; $175 Seward Chamber Member<br />\n&nbsp\;&nbsp\;&nbsp\;&nbsp\;&nbsp\;&nbsp\;&nbsp\;&nbsp\;&nbsp\;&nbsp\;&nbsp\;&nbsp\;&nbsp\;&nbsp\;&nbsp\;&nbsp\;&nbsp\;&nbsp\;&nbsp\;&nbsp\;&nbsp\;&nbsp\;&nbsp\;&nbsp\;&nbsp\;&nbsp\;&nbsp\;&nbsp\;&nbsp\;&nbsp\;&nbsp\;&nbsp\;&nbsp\;&nbsp\;&nbsp\;&nbsp\;&nbsp\;&nbsp\;&nbsp\;$225 for Non-Member<br />\n&nbsp\;&nbsp\;&nbsp\;&nbsp\;&nbsp\;&nbsp\;&nbsp\;&nbsp\;&nbsp\;&nbsp\;&nbsp\;&nbsp\;&nbsp\;&nbsp\;&nbsp\;&nbsp\;&nbsp\;&nbsp\;&nbsp\;&nbsp\;&nbsp\;&nbsp\;&nbsp\;&nbsp\;&nbsp\;&nbsp\;&nbsp\;&nbsp\;&nbsp\;&nbsp\;&nbsp\;&nbsp\;&nbsp\;&nbsp\;&nbsp\;&nbsp\;&nbsp\;&nbsp\; $&nbsp\; 75.00 for Optional Enhanced Marketing<br />\n<a href="http://www.sewardne.com">http://www.sewardne.com</a>
LOCATION:Seward County Ag Pavilion 500 North 14th St. Seward\, NE
UID:e.865.3503
SEQUENCE:3
DTSTAMP:20260421T112831Z
URL:https://business.cultivatesewardcounty.com/events/details/seward-s-25th-annual-spring-show-04-05-2014-3503
END:VEVENT

END:VCALENDAR
