BEGIN:VCALENDAR
VERSION:2.0
PRODID:-//ChamberMaster//Event Calendar 2.0//EN
METHOD:PUBLISH
X-PUBLISHED-TTL:P3D
REFRESH-INTERVAL:P3D
CALSCALE:GREGORIAN
BEGIN:VEVENT
DTSTART:20140516T000000Z
DTEND:20140516T010000Z
X-MICROSOFT-CDO-ALLDAYEVENT:FALSE
SUMMARY:Seward Public School Vocal Concert
DESCRIPTION:Seward Public School Vocal Concert
X-ALT-DESC;FMTTYPE=text/html:Seward Public School Vocal Concert
LOCATION:Seward High School New Theater 532 Northern Heights Seward\, NE
UID:e.865.3846
SEQUENCE:3
DTSTAMP:20260421T095630Z
URL:https://business.cultivatesewardcounty.com/events/details/seward-public-school-vocal-concert-05-15-2014-3846
END:VEVENT

END:VCALENDAR
