BEGIN:VCALENDAR
VERSION:2.0
PRODID:-//ChamberMaster//Event Calendar 2.0//EN
METHOD:PUBLISH
X-PUBLISHED-TTL:P3D
REFRESH-INTERVAL:P3D
CALSCALE:GREGORIAN
BEGIN:VEVENT
DTSTART:20140610T000000Z
DTEND:20140610T020000Z
X-MICROSOFT-CDO-ALLDAYEVENT:FALSE
SUMMARY:Seward Public School Board Meeting
DESCRIPTION:Seward Public School Board Meeting\, beginning at 7:00 pm
X-ALT-DESC;FMTTYPE=text/html:Seward Public School Board Meeting\, beginning at 7:00 pm
LOCATION:Seward Public School District Office 410 South St\, Seward\, NE 68434
UID:e.865.3495
SEQUENCE:3
DTSTAMP:20260421T084107Z
URL:https://business.cultivatesewardcounty.com/events/details/seward-public-school-board-meeting-06-09-2014-3495
END:VEVENT

END:VCALENDAR
