BEGIN:VCALENDAR
VERSION:2.0
PRODID:-//ChamberMaster//Event Calendar 2.0//EN
METHOD:PUBLISH
X-PUBLISHED-TTL:P3D
REFRESH-INTERVAL:P3D
CALSCALE:GREGORIAN
BEGIN:VEVENT
DTSTART:20120704T120000Z
DTEND:20120704T150000Z
X-MICROSOFT-CDO-ALLDAYEVENT:FALSE
SUMMARY:Seward Optimist Freedom Run & Fun Run
DESCRIPTION:Seward Optimist International Club members expect another record registration turnout for the 2012 4th of July 10K (6.2 mile) Freedom Run and the Two-Mile Fun Run.  The event will begin at 7:00 a.m. at the Seward Municipal Swimming Pool at Seward City Park (14th & Seward Street).  Registration and check-in begins at 6:00 a.m.\n\n\n\nPre-registration for both races is strongly encouraged & recommended.  Entry forms are available from the club website:  www.sewardoptimistclub.org\; from the Seward Chamber of Commerce\, from the Seward area banks\, or online registration and payment are available at www.GetMeRegistered.com.   Entry forms may be mailed to:\n\nSeward Optimist Club\n\nP.O. Box 191\n\nSeward\, NE  684343\n\n\n\nEntry fees\, entry deadlines\, prizes & medals\, and age classes for male & female participants can be found on the registration form.
X-ALT-DESC;FMTTYPE=text/html:Seward Optimist International Club members expect another record registration turnout for the 2012 4th of July 10K (6.2 mile) Freedom Run and the Two-Mile Fun Run. &nbsp\;The event will begin at 7:00 a.m. at the Seward Municipal Swimming Pool at Seward City Park (14th &amp\; Seward Street). &nbsp\;<b>Registration and check-in begins at 6:00 a.m.</b><br />\n<br />\nPre-registration for both races is strongly encouraged &amp\; recommended. &nbsp\;Entry forms are available from the club website: &nbsp\;www.sewardoptimistclub.org\; from the Seward Chamber of Commerce\, from the Seward area banks\, or online registration and payment are available at www.GetMeRegistered.com. &nbsp\; Entry forms may be mailed to:<br />\nSeward Optimist Club<br />\nP.O. Box 191<br />\nSeward\, NE &nbsp\;684343<br />\n<br />\nEntry fees\, entry deadlines\, prizes &amp\; medals\, and age classes for male &amp\; female participants can be found on the registration form.
LOCATION:Seward City Park
UID:e.865.1399
SEQUENCE:3
DTSTAMP:20260422T161135Z
URL:https://business.cultivatesewardcounty.com/events/details/seward-optimist-freedom-run-fun-run-07-04-2012-1399
END:VEVENT

END:VCALENDAR
