BEGIN:VCALENDAR
VERSION:2.0
PRODID:-//ChamberMaster//Event Calendar 2.0//EN
METHOD:PUBLISH
X-PUBLISHED-TTL:P3D
REFRESH-INTERVAL:P3D
CALSCALE:GREGORIAN
BEGIN:VEVENT
DTSTART:20130729T003000Z
DTEND:20130729T013000Z
X-MICROSOFT-CDO-ALLDAYEVENT:FALSE
SUMMARY:Seward Municipal Band Concert
DESCRIPTION:Seward Municipal Band Concert
X-ALT-DESC;FMTTYPE=text/html:Seward Municipal Band Concert&nbsp\;&nbsp\;&nbsp\;&nbsp\;
LOCATION:Bandshell at corner of 5th St. and Jackson Avenue\, Seward\, NE. If rain\, concert will be held at the Civic Center auditorium.
UID:e.865.2811
SEQUENCE:3
DTSTAMP:20260421T231229Z
URL:https://business.cultivatesewardcounty.com/events/details/seward-municipal-band-concert-07-28-2013-2811
END:VEVENT

END:VCALENDAR
