BEGIN:VCALENDAR
VERSION:2.0
PRODID:-//ChamberMaster//Event Calendar 2.0//EN
METHOD:PUBLISH
X-PUBLISHED-TTL:P3D
REFRESH-INTERVAL:P3D
CALSCALE:GREGORIAN
BEGIN:VEVENT
DTSTART:20131107T010000Z
DTEND:20131107T020000Z
X-MICROSOFT-CDO-ALLDAYEVENT:FALSE
SUMMARY:Seward Middle School Band Concert
DESCRIPTION:Seward Middle School Band Concert - Grades 6th and 7th
X-ALT-DESC;FMTTYPE=text/html:Seward Middle School Band Concert - Grades 6th and 7th 
LOCATION:Seward High School New Theater 532 Northern Heights Dr. Seward\, NE
UID:e.865.3327
SEQUENCE:3
DTSTAMP:20260421T180051Z
URL:https://business.cultivatesewardcounty.com/events/details/seward-middle-school-band-concert-11-06-2013-3327
END:VEVENT

END:VCALENDAR
