BEGIN:VCALENDAR
VERSION:2.0
PRODID:-//ChamberMaster//Event Calendar 2.0//EN
METHOD:PUBLISH
X-PUBLISHED-TTL:P3D
REFRESH-INTERVAL:P3D
CALSCALE:GREGORIAN
BEGIN:VEVENT
DTSTART:20140115T010000Z
DTEND:20140115T020000Z
X-MICROSOFT-CDO-ALLDAYEVENT:FALSE
SUMMARY:Seward Middle School Band Concert
DESCRIPTION:Seward Middle School Band Concert - grades 5th through 8th
X-ALT-DESC;FMTTYPE=text/html:Seward Middle School Band Concert - grades 5th through 8th
LOCATION:Seward High School New Theater 532 Northern Heights Seward\, NE
UID:e.865.3458
SEQUENCE:3
DTSTAMP:20260421T153502Z
URL:https://business.cultivatesewardcounty.com/events/details/seward-middle-school-band-concert-01-14-2014-3458
END:VEVENT

END:VCALENDAR
