BEGIN:VCALENDAR
VERSION:2.0
PRODID:-//ChamberMaster//Event Calendar 2.0//EN
METHOD:PUBLISH
X-PUBLISHED-TTL:P3D
REFRESH-INTERVAL:P3D
CALSCALE:GREGORIAN
BEGIN:VEVENT
DTSTART:20120407T190000Z
DTEND:20120407T210000Z
X-MICROSOFT-CDO-ALLDAYEVENT:FALSE
SUMMARY:Seward Merchants/Community Easter Egg Hunt
DESCRIPTION:The Seward Merchants/Community Easter Egg Hunt sponsored by the Seward VFW will be held today at Plum Creek Park at the Seward Soccer Fields.\n\n\n\nThere will be 4 age groups and the fields will be marked.
X-ALT-DESC;FMTTYPE=text/html:The Seward Merchants/Community Easter Egg Hunt sponsored by the Seward VFW will be held today at Plum Creek Park at the Seward Soccer Fields.<br />\n<br />\nThere will be 4 age groups and the fields will be marked.
LOCATION:Plum Creek Park at the Seward Soccer Fields.
UID:e.865.1376
SEQUENCE:3
DTSTAMP:20260422T200852Z
URL:https://business.cultivatesewardcounty.com/events/details/seward-merchants-community-easter-egg-hunt-04-07-2012-1376
END:VEVENT

END:VCALENDAR
