BEGIN:VCALENDAR
VERSION:2.0
PRODID:-//ChamberMaster//Event Calendar 2.0//EN
METHOD:PUBLISH
X-PUBLISHED-TTL:P3D
REFRESH-INTERVAL:P3D
CALSCALE:GREGORIAN
BEGIN:VEVENT
DTSTART:20140529T233000Z
DTEND:20140530T003000Z
X-MICROSOFT-CDO-ALLDAYEVENT:FALSE
SUMMARY:Seward Memorial Library will host "loving Our Heritage" presentation
DESCRIPTION:Seward Memorial Library will host "loving Our Heritage" presentation by authors Priscilla Martens and Deanne Ramsey
X-ALT-DESC;FMTTYPE=text/html:Seward Memorial Library will host &quot\;loving Our Heritage&quot\; presentation by authors Priscilla Martens and Deanne Ramsey
LOCATION:Seward Memorial Library 233 South 5th St. Seward\, NE
UID:e.865.3859
SEQUENCE:3
DTSTAMP:20260421T111514Z
URL:https://business.cultivatesewardcounty.com/events/details/seward-memorial-library-will-host-loving-our-heritage-presentation-05-29-2014-3859
END:VEVENT

END:VCALENDAR
